BEGIN:VCALENDAR
VERSION:2.0
PRODID:-//InvisionCommunity Events 4.7.20//EN
METHOD:PUBLISH
CALSCALE:GREGORIAN
REFRESH-INTERVAL:PT15M
X-PUBLISHED-TTL:PT15M
X-WR-CALNAME:Auf dem Feldberg
NAME:Auf dem Feldberg
BEGIN:VTIMEZONE
TZID:Europe/London
TZURL:http://tzurl.org/zoneinfo/Europe/London
X-LIC-LOCATION:Europe/London
BEGIN:DAYLIGHT
TZOFFSETFROM:+0000
TZOFFSETTO:+0100
TZNAME:BST
DTSTART:20260329T020000Z
RRULE:FREQ=YEARLY;BYMONTH=3;BYDAY=-1SU
END:DAYLIGHT
BEGIN:STANDARD
TZOFFSETFROM:+0100
TZOFFSETTO:+0000
TZNAME:GMT
DTSTART:20261025T020000Z
RRULE:FREQ=YEARLY;BYMONTH=10;BYDAY=-1SU
END:STANDARD
END:VTIMEZONE
BEGIN:VTIMEZONE
TZID:Europe/London
TZURL:http://tzurl.org/zoneinfo/Europe/London
X-LIC-LOCATION:Europe/London
BEGIN:DAYLIGHT
TZOFFSETFROM:+0000
TZOFFSETTO:+0100
TZNAME:BST
DTSTART:20250330T020000Z
RRULE:FREQ=YEARLY;BYMONTH=3;BYDAY=-1SU
END:DAYLIGHT
BEGIN:STANDARD
TZOFFSETFROM:+0100
TZOFFSETTO:+0000
TZNAME:GMT
DTSTART:20251026T020000Z
RRULE:FREQ=YEARLY;BYMONTH=10;BYDAY=-1SU
END:STANDARD
END:VTIMEZONE
BEGIN:VEVENT
SUMMARY:Frühlingsmarkt auf dem Feldberg-Plateau
DTSTAMP:20260316T170526Z
SEQUENCE:0
UID:119-7-09745f4c47540dd7875ae4b3a60de9a4@www.die-feldbergerin.de
ORGANIZER;CN="Christine Reguigne":gude@die-feldbergerin.de
DESCRIPTION:\n	\n\n\n\n	Wir laden euch am Sonntag\, den 22. März herzli
	ch auf das Feldberg-Plateau ein. Heute öffnen wir unseren Feldbergerin-M
	arktplatz für euch mit allerlei Angeboten aus unserem Netzwerk und ausg
	ewählten Taunusfrauen.\n\n	\n\n	Auch wenn es draussen noch kalt erscheint
	\, haben wir den Frühling im Herzen.\n\n\n\n	 \n\n\n\n	Und wir sind dabe
	i: \n\n\n\n	 \n\n\n\n	🍀 Christine Reguigne stellt \"Die Feldbergeri
	n\" vor\, beantwortet eure Fragen zum Netzwerk\, den nächsten Veranstaltu
	ngen und natürlich zu unseren neuen Räumen in Bad Camberg. Bei ihr gibt 
	es jede Menge bunter Ostergeschenke aus unserem Store.\n\n\n\n	🍀 Bei 
	Jeannette Huppertz dreht sich Alles rund um Aloe Vera\, Darm-/Lebergesund
	heit sowie Gewichtsmanagement. Bei ihr kannst du Produkte testen\, schmeck
	en und schnuppern.\n\n\n\n	🍀 Atelierglas Anja Gilles: Bei ihr findest 
	du handgemachte Glasobjekte mit Herz\, Licht und ganz viel Charme. Anjas S
	tücke sollen kleinen Alltagsmomenten etwas Besonderes geben und einfach F
	reude ins Zuhause bringen.\n\n\n\n	 🍀 Bei Heidi Hübschen könnt ih
	r die BEMER-Gesundheitsmatte testen und euch beraten lassen\, wie ihr eure
	 kleinsten Gefäße frühlingsfit macht.\n\n\n\n	🍀 Stefanie Kruse von
	 RecyclingArtStefanie verwandelt Alltagsgegenstände wie Briefmarken\, Kro
	nkorken\, Streichholzschachteln\, etc. in farbenfrohe Collagen\, Dekoobjek
	te und Schmuck. \n\n\n\n	🍀 Katharina Kruse kreiert neue Lieblingsstüc
	ke und Erinnerungen\, kleine \"Keepsakes\". Schmuck\, Accessoires und Klei
	nigkeiten\, aus Perlen oder gehäkelt.\n\n\n\n	 🍀 Pilar Foranda prä
	sentiert das Gesundheitskonzept von Zinzino und berät euch gerne\, wie ih
	r unbeschwert in den Frühling starten könnt.\n\n\n\n	 \n\n\n\n	\n\n\n\
	n	 \n\n\n\n	 \n\n\n\n	Den Feldbergerin-Marktplatz findet ihr zwischen de
	m großen Spielplatz und dem Falkenhof.\n\n	\n\n	Bei sehr schlechtem Wette
	r findet der Markt eine Woche später statt\, am 29.03. Bitte informiert e
	uch vorab noch einmal\, ob der Markt stattfindet. Wir informieren euch!\n\
	n\n\n	 \n\n\n\n	\n\n\n\n	 \n\n
DTSTART:20260322T100000Z
DTEND:20260322T150000Z
END:VEVENT
BEGIN:VEVENT
SUMMARY:Feldbergerin-Community im Austausch mit \"Bündnis 90 / Die 
	Grünen\"
DTSTAMP:20260204T094645Z
SEQUENCE:0
UID:113-7-09745f4c47540dd7875ae4b3a60de9a4@www.die-feldbergerin.de
ORGANIZER;CN="Christine Reguigne":gude@die-feldbergerin.de
DESCRIPTION:\n	Wir freuen uns sehr über die Einladung an die Schmittene
	r Unternehmerinnen aus der lokalen Politik\, den Damen und Herren von \"B
	ündnis 90 / Die Grünen\"\n\n\n\n	Wo kann die Politik unterstützen\, bez
	ogen auf die Wünsche und Bedürfnisse von Unternehmerinnen aus der Regio
	n. \n\n\n\n	Wir freuen uns auf eine spannende Runde mit tollen Frauen. Da
	s Treffen findet hoch oben auf dem Feldberg-Gipfel in unserem Feldbergerin
	-Marktplatz statt.\n\n\n\n	 \n\n\n\n	 \n\n\n\n	\n\n\n\n	 \n\n\n\n	 \n\
	n\n\n	Wir freuen uns auch über Einladungen von anderen Städten und Gemei
	nden aus dem schönen Taunus. Wer Lust auf ein gemeinsames Gespräch und k
	onstruktives Brainstorming hat\, kann sich gerne an mich wenden\, Christin
	e\, unter gude@die-feldbergerin.de.\n\n
DTSTART:20260221T130000Z
END:VEVENT
BEGIN:VEVENT
SUMMARY:Besucht uns beim Feldbergerin-Markt auf dem Feldberg-Plateau
DTSTAMP:20250819T070108Z
SEQUENCE:0
UID:100-7-09745f4c47540dd7875ae4b3a60de9a4@www.die-feldbergerin.de
ORGANIZER;CN="Christine Reguigne":gude@die-feldbergerin.de
DESCRIPTION:\n	Wir laden euch am Sonntag\, den 14. September herzlich au
	f das Feldberg-Plateau ein. Heute öffnen wir unseren Feldbergerin-Marktpl
	atz für euch mit allerlei Angeboten aus unserem Netzwerk. \n\n	\n\n	Und 
	freut euch an diesem Sonntag auch auf das Drachenfest\, was auf dem Platea
	u stattfindet. \n\n\n\n	 \n\n\n\n	Und wir sind dabei: \n\n	 \n\n\n\n	C
	hristine Reguigne stellt \"Die Feldbergerin\" vor\, beantwortet eure Frag
	en zum Netzwerk\, den nächsten Veranstaltungen und natürlich zur Taunusf
	rauenmesse im Oktober in Kronberg. Bei ihr könnt ihr auch ausgewählte Wa
	re aus unseren PopUp-Store und allerlei Handgemachtes kaufen.\n\n\n\n	Bei
	  Annegret Kohn könnt ihr in buntem\, selbsterstelltem Schmuck stöber
	n.\n\n\n\n	Manuela Weist stellt ihr Kurskonzept und ihre Freebies Mathe 
	TÜV\, Selbstlerncheck und die Gesprächsimpulse Mathe ohne Streit für S
	chüler:innen und Eltern vor.\n\n\n\n	Pilar Foranda präsentiert das Gesu
	ndheitskonzept von Zinzino und berät euch gerne.\n\n\n\n	Bei Julia Voigt
	mann-Engel gibt es allerlei Heimatkerschel. Selbsterdachte Produkte mit R
	egionalbezug und jeder Menge Humor.\n\n\n\n	Walburga Kliem stellt die \"Tr
	eisberger Erzählscheune\" vor und hat allerlei Geschichten im Gepäck.\n\
	n\n\n	Bei Heidi Hübschen könnt ihr die BEMER-Gesundheitsmatte testen und
	 euch beraten lassen.\n\n\n\n	Und Giulia Benze stellt ihre 3D-Vasen vor\
	, ein ganz besonderes Dekostück in der Wohnung.\n\n\n\n	 \n\n\n\n	 \n\n
	\n\n	Den Feldbergerin-Marktplatz findet ihr zwischen dem großen Spielplat
	z und dem Falkenhof.\n\n	\n\n	Bei sehr schlechtem Wetter muss der Markttag
	 leider ausfallen.\n\n
DTSTART:20250914T090000Z
DTEND:20250914T140000Z
END:VEVENT
END:VCALENDAR
